BEGIN:VCALENDAR
VERSION:2.0
PRODID:-//OVWN - ECPv6.11.2.1//NONSGML v1.0//EN
CALSCALE:GREGORIAN
METHOD:PUBLISH
X-ORIGINAL-URL:https://ovwn.nl
X-WR-CALDESC:Evenementen voor OVWN
REFRESH-INTERVAL;VALUE=DURATION:PT1H
X-Robots-Tag:noindex
X-PUBLISHED-TTL:PT1H
BEGIN:VTIMEZONE
TZID:Europe/Amsterdam
BEGIN:DAYLIGHT
TZOFFSETFROM:+0100
TZOFFSETTO:+0200
TZNAME:CEST
DTSTART:20210328T010000
END:DAYLIGHT
BEGIN:STANDARD
TZOFFSETFROM:+0200
TZOFFSETTO:+0100
TZNAME:CET
DTSTART:20211031T010000
END:STANDARD
END:VTIMEZONE
BEGIN:VEVENT
DTSTART;TZID=Europe/Amsterdam:20211028T193000
DTEND;TZID=Europe/Amsterdam:20211028T233000
DTSTAMP:20260421T173635
CREATED:20210902T103412Z
LAST-MODIFIED:20211024T204236Z
UID:432-1635449400-1635463800@ovwn.nl
SUMMARY:Jaarvergadering annex Duitse bieravond
DESCRIPTION:Onze jaarlijkse ledenvergadering\, waarbij we het hebben over het afgelopen jaar én het nieuwe jaar. Wat hebben we als vereniging gedaan\, wat willen we als vereniging gaan doen en waar heeft iedereen behoefte aan? Ook hebben we het even kort over de financiën. Daarna vervolgen we de avond feestelijk in de sfeer van de Oktoberfeesten in Duitsland. We hebben een heuse Duitse bierkenner aan de haak geslagen die ons alles gaat vertellen over biertjes én er is volop gelegenheid om te proeven. \nDe locatie is helaas afgezegd. We houden je op de hoogte van de nieuwe locatie! \n\n\n  \n\n\n\n\n\n\n\n\n\n\n\n\n\n\n\n\n Je naam\n \n \n Bedrijfsnaam\n \n \n Je e-mailadres\n \n \n Neem je iemand mee?\njanee\n \n Wat is de naam van die persoon?\n \n \n\n Δ ×
URL:https://ovwn.nl/event/jaarvergadering-annex-duitse-bieravond/
LOCATION:Volgt nog\, Nederland
CATEGORIES:Ledenactiviteiten,Ontspanning
ATTACH;FMTTYPE=image/png:https://ovwn.nl/wp-content/uploads/2021/09/duitse_bieravond.png
END:VEVENT
END:VCALENDAR